BEGIN:VCALENDAR
VERSION:2.0
PRODID:-//wp-events-plugin.com//6.4.7.1//EN
BEGIN:VEVENT
UID:2134@updogchallenge.com
DTSTART:20220507T050000Z
DTEND:20220525T050000Z
DTSTAMP:20220429T162431Z
URL:https://updogchallenge.com/events/hillgrove-nb-ca-may-7th-18th-25th-bi
 te-club-pjs-canine-club/
SUMMARY:Hillgrove\, NB\, CA - May 7th\, 18th & 25th - Bite Club - PJs Canin
 e Club
DESCRIPTION:\n\n\nCLUB NAME\nPJ's Canine Club\n\n\nCONTACT NAME\nJanice Aub
 e\n\n\nCONTACT EMAIL\npjs.canineclub@gmail.com\n\n\n\n\n\n\n\n\n\n\nEVENT 
 ADDRESS\n3420 Route 890\, Hillgrove\, New Brunswick E4Z 5W4\, Canada\n\n\n
 EVENT START DATE\n5/7/2022\n\n\nEVENT END DATE\n5/25/2022\n\n\nLIST WEEK 2
  BITE CLUB DATE:\n5/7/2022\n\n\nLIST WEEK 3 BITE CLUB DATE:\n5/18/2022\n\n
 \nLIST WEEK 4 BITE CLUB DATE:\n5/25/2022\n\n\nEVENT START TIME\n6:00 PM\n
 \n\nEVENT END TIME\n8:00 PM\n\n\nGAMES BEING PLAYED\nFour Way Play\nGreedy
 \nThrow N Go\nTime Warp\nSpaced Out\n\n\n
CATEGORIES:Bite Club,UpDog Events
LOCATION:Hillgrove\, New Brunswick\, 3420 Route 890\, Hillgrove\, NB\, E4Z 
 5W4\, Canada
GEO:45.927134;-65.223782
X-APPLE-STRUCTURED-LOCATION;VALUE=URI;X-ADDRESS=3420 Route 890\, Hillgrove\
 , NB\, E4Z 5W4\, Canada;X-APPLE-RADIUS=100;X-TITLE=Hillgrove\, New Brunswi
 ck:geo:45.927134,-65.223782
END:VEVENT
END:VCALENDAR