BEGIN:VCALENDAR
VERSION:2.0
PRODID:-//wp-events-plugin.com//6.4.7.1//EN
BEGIN:VEVENT
UID:1298@updogchallenge.com
DTSTART:20200811T000000Z
DTEND:20200811T010000Z
DTSTAMP:20200717T184204Z
URL:https://updogchallenge.com/events/hampton-ct-us-aug-10th-hartford-toss
 -n-fetch/
SUMMARY:East Hampton\, CT\, US - Aug 10th - Hartford Toss N Fetch
DESCRIPTION:\n\n\nContact Name\nCheryl Hutchings\n\n\nClub/ORG Name\nHartfo
 rd Toss N Fetch\n\n\nContact Email address\nisisofdalmatia@hotmail.com\n\n
 \nClub State\nCT\n\n\n\n\n\n\nEvent location full Address\nSalmon River P
 ark Gulf Rd East Hampton CT 06424\n\n\nStart Date\nAugust 10\, 2020\n\n\nS
 tart Time\n7:00 PM\n\n\nEnd Time\n8:00 PM\n\n\nGames you want to offer\nFa
 rOut\n\n\n
CATEGORIES:UpDog Events
LOCATION:Salmon River Park\, Gulf Rd\, East Hampton\, CT\, 06424\, United S
 tates
GEO:41.546798;-72.453081
X-APPLE-STRUCTURED-LOCATION;VALUE=URI;X-ADDRESS=Gulf Rd\, East Hampton\, CT
 \, 06424\, United States;X-APPLE-RADIUS=100;X-TITLE=Salmon River Park:geo:
 41.546798,-72.453081
END:VEVENT
END:VCALENDAR