BEGIN:VCALENDAR
VERSION:2.0
PRODID:-//wp-events-plugin.com//6.4.7.1//EN
BEGIN:VEVENT
UID:95@updogchallenge.com
DTSTART:20160521T150000Z
DTEND:20160521T213000Z
DTSTAMP:20160119T052441Z
URL:https://updogchallenge.com/events/h2d2-ny-may-21/
SUMMARY:H2D2 NY May 21
DESCRIPTION:Contact:\nCorinne Brewer\nH2D2\nbrewerad@aol.com\n\nEvent locat
 ion:\n639 Smithfield Road Millerton\, NY 12546\n\nMay 21\, 2016\n\n10:00 A
 M - 4:30 PM\n\nGames:\n4WayPlay\, ThrowNGo\, Frizgility\, Time Warp
CATEGORIES:UpDog Events
LOCATION:H2D2 Millerton\, 639 Smithfield Road\, Millerton\, New York\, 1254
 6\, United States
GEO:41.921892;-73.56627100000003
X-APPLE-STRUCTURED-LOCATION;VALUE=URI;X-ADDRESS=639 Smithfield Road\, Mille
 rton\, New York\, 12546\, United States;X-APPLE-RADIUS=100;X-TITLE=H2D2 Mi
 llerton:geo:41.921892,-73.56627100000003
END:VEVENT
END:VCALENDAR