BEGIN:VCALENDAR
VERSION:2.0
PRODID:-//wp-events-plugin.com//6.4.7.1//EN
BEGIN:VEVENT
UID:96@updogchallenge.com
DTSTART:20160716T140000Z
DTEND:20160717T213000Z
DTSTAMP:20160529T053224Z
URL:https://updogchallenge.com/events/h2d2-ny-july-16-17/
SUMMARY:H2D2 NY July 16-17
DESCRIPTION:Corinne Brewer\nHudson Housatonic Disc Dogs - H2D2\nbrewerad@ao
 l.com\n\nAddress:\nLawrence Field\n10 Gandolfo Dr\nCanaan\, CT 06018\n\n7/
 16 9-4\n7/17 Starts at 1pm
CATEGORIES:UpDog Events
LOCATION:Lawrence Field\,  10 Gandolfo Dr \, Canaan\, CT \, 06018\, United 
 States
GEO:42.0248541;-73.32756180000001
X-APPLE-STRUCTURED-LOCATION;VALUE=URI;X-ADDRESS= 10 Gandolfo Dr \, Canaan\,
  CT \, 06018\, United States;X-APPLE-RADIUS=100;X-TITLE=Lawrence Field:geo
 :42.0248541,-73.32756180000001
END:VEVENT
END:VCALENDAR