BEGIN:VCALENDAR
VERSION:2.0
PRODID:-//wp-events-plugin.com//6.4.7.1//EN
BEGIN:VEVENT
UID:1254@updogchallenge.com
DTSTART:20201017T130000Z
DTEND:20201018T230000Z
DTSTAMP:20200911T202229Z
URL:https://updogchallenge.com/events/gretna-va-us-oct-17th-18th-leesville
 -lake-campground/
SUMMARY:Gretna\, VA\, US - Oct 17th & 18th - Leesville Lake Campground
DESCRIPTION:\n\n\nContact Name\nTracy Love\n\n\nClub/ORG Name\nLeesville La
 ke Campground\n\n\nContact Email address\ntlove@jtlmusic.com\n\n\nClub St
 ate\nVA\n\n\n\n\n\n\nEvent location full Address\n3129 Gallows Road\, Gret
 na\, VA\, 24557\n\n\nStart Date\nOctober 17\, 2020\n\n\nEnd Date\nOctober 
 18\, 2020\n\n\nStart Time\n9:00 AM\n\n\nEnd Time\n6:00 PM\n\n\n\n\n\n\n\n\
 n\n\nAny other event information?\nDeadline for preregistration is 10/9/20
 20. Late registration will be accepted until 10/14/2020. No day of event
  entries.\nCamping reservations must be made in advance at LLCampground.co
 m\n\nhttps://llcampground.com/updog.html\nSaturday:\nThrowNGo\n4WayPlay\nF
 reestyle (Criterion Round\, level one and level two)\nFrizgility\nGreedy\n
 \nSunday:\nThrowNGo\n4WayPlay\nTime Warp\nSpaced Out\n\nAll games will be 
 Level 1 except for Freestyle\, in which we will offer both level 1 &amp\; 
 2.\n\n\n
CATEGORIES:UpDog Events
LOCATION:Leesville Lake Campground - Gretna\, VA\, 3129 Gallows Road\, Gret
 na\, VA\, 24557\, United States
GEO:37.089218;-79.39616000000001
X-APPLE-STRUCTURED-LOCATION;VALUE=URI;X-ADDRESS=3129 Gallows Road\, Gretna\
 , VA\, 24557\, United States;X-APPLE-RADIUS=100;X-TITLE=Leesville Lake Cam
 pground - Gretna\, VA:geo:37.089218,-79.39616000000001
END:VEVENT
END:VCALENDAR