BEGIN:VCALENDAR
VERSION:2.0
PRODID:-//wp-events-plugin.com//6.4.7.1//EN
BEGIN:VEVENT
UID:1353@updogchallenge.com
DTSTART:20200912T150000Z
DTEND:20200912T230000Z
DTSTAMP:20200813T204537Z
URL:https://updogchallenge.com/events/greer-sc-us-sept-12th-mutts-and-mons
 ters-disc-dogs/
SUMMARY:Greer\, SC\, US - Sept 12th - Mutts and Monsters Disc Dogs
DESCRIPTION:\n\n\nCLUB NAME\nMutts and Monsters Disc Dogs\n\n\nCONTACT NAME
 \nLucas Croft\n\n\nCONTACT EMAIL\nMuttsAndMonsters@yahoo.com\n\n\nEVENT A
 DDRESS\n1821 N HIGHWAY 101\, GREER\, SC 29651\, United States\n\n\nEVENT 
 START DATE\n9/12/2020\n\n\nEVENT END DATE\n9/12/2020\n\n\nEVENT START TI
 ME\n10:00 AM\n\n\nEVENT END TIME\n6:00 PM\n\n\nGAMES BEING PLAYED\nFar Ou
 t\nFour Way Play\nFreestyle\nFrizgility\nGreedy\nSpaced Out\nThrow N Go\nT
 ime Warp\n\n\n
CATEGORIES:UpDog Events
LOCATION:Greer\, SC\, 1821 North Hwy 101\, Greer\, SC\, 29651\, United Stat
 es
GEO:34.9634983;-82.2677928
X-APPLE-STRUCTURED-LOCATION;VALUE=URI;X-ADDRESS=1821 North Hwy 101\, Greer\
 , SC\, 29651\, United States;X-APPLE-RADIUS=100;X-TITLE=Greer\, SC:geo:34.
 9634983,-82.2677928
END:VEVENT
END:VCALENDAR