BEGIN:VCALENDAR
VERSION:2.0
PRODID:-//wp-events-plugin.com//6.4.7.1//EN
BEGIN:VEVENT
UID:1251@updogchallenge.com
DTSTART:20201023T170000Z
DTEND:20201025T220000Z
DTSTAMP:20200617T180704Z
URL:https://updogchallenge.com/events/greenfield-ma-us-oct-23rd-thru-25th-
 boston-area-disc-dogs/
SUMMARY:Greenfield\, MA\, US - Oct 23rd thru 25th - Boston Area Disc Dogs
DESCRIPTION:\n\n\nContact Name\nDEBORAH R TAYLOR\n\n\nClub/ORG Name\nBoston
  Area Disc Dogs\n\n\nContact Email address\ntaydeb06@gmail.com\n\n\nClub 
 State\nMA\n\n\n\n\n\n\nEvent location full Address\nFranklin County Fairgr
 ounds 89 Wisdom Way\, Greenfield\, MA 01301\n\n\nStart Date\nOctober 23\, 
 2020\n\n\nEnd Date\nOctober 25\, 2020\n\n\nStart Time\n12:00 PM\n\n\nEnd T
 ime\n5:00 PM\n\n\nGames you want to offer\n4WayPlay\, ThrowNGo\, Frizgilit
 y\, Funkey\, Spaced Out\, Freestyle\, Time Warp\, FarOut\, 7UP\, Greedy\n\
 n\n
CATEGORIES:UpDog Events
LOCATION:Franklin County Fairgrounds\, 89 Wisdom Way\, Greenfield\, MA\, 01
 301\, United States
GEO:42.579007;-72.611779
X-APPLE-STRUCTURED-LOCATION;VALUE=URI;X-ADDRESS=89 Wisdom Way\, Greenfield\
 , MA\, 01301\, United States;X-APPLE-RADIUS=100;X-TITLE=Franklin County Fa
 irgrounds:geo:42.579007,-72.611779
END:VEVENT
END:VCALENDAR