BEGIN:VCALENDAR
VERSION:2.0
PRODID:-//wp-events-plugin.com//6.4.7.1//EN
BEGIN:VEVENT
UID:1464@updogchallenge.com
DTSTART:20210514T140000Z
DTEND:20210516T220000Z
DTSTAMP:20201020T194916Z
URL:https://updogchallenge.com/events/greenfield-ma-us-may-14th-thru-16th-
 boston-area-disc-dogs/
SUMMARY:Greenfield\, MA\, US - May 14th thru 16th - Boston Area Disc Dogs
DESCRIPTION:\n\n\nCLUB NAME\nBoston Area Disc Dogs\n\n\nCONTACT NAME\nDEBOR
 AH TAYLOR\n\n\nCONTACT EMAIL\nbaddogs617@gmail.com\n\n\nEVENT ADDRESS\n89
  Wisdom Way\, Greenfield\, MA 01301\, United States\n\n\nEVENT START DATE
 \n5/14/2021\n\n\nEVENT END DATE\n5/16/2021\n\n\nEVENT START TIME\n9:00 A
 M\n\n\nEVENT END TIME\n5:00 PM\n\n\nGAMES BEING PLAYED\nTo Be Determined\
 n\n\nADDITIONAL EVENT INFORMATION FOR PARTICIPANTS\nLocated at the Frank
 lin County Fairgrounds\n\n\n
CATEGORIES:UpDog Events
LOCATION:Franklin County Fairgrounds\, 89 Wisdom Way\, Greenfield\, MA\, 01
 301\, United States
GEO:42.579007;-72.611779
X-APPLE-STRUCTURED-LOCATION;VALUE=URI;X-ADDRESS=89 Wisdom Way\, Greenfield\
 , MA\, 01301\, United States;X-APPLE-RADIUS=100;X-TITLE=Franklin County Fa
 irgrounds:geo:42.579007,-72.611779
END:VEVENT
END:VCALENDAR