BEGIN:VCALENDAR
VERSION:2.0
PRODID:-//wp-events-plugin.com//6.4.7.1//EN
BEGIN:VEVENT
UID:291@updogchallenge.com
DTSTART:20170908T140000Z
DTEND:20170910T230000Z
DTSTAMP:20170814T155930Z
URL:https://updogchallenge.com/events/greenback-tn-sept-8-10/
SUMMARY:Greenback TN Sept 8-10
DESCRIPTION:Contact\nKaren Echternacht\nCanines By Karen\nKarensCanineCompa
 nions@gmail.com\n\nEvent location full Address\nFinny Farm\, 6474 Morganto
 n Road\, Greenback\, TN 37742\n\nSeptember 8-10\, 2017\n9:00 AM\n\nGames 
 :\n4WayPlay\, Frizgility\, Spaced Out\, Time Warp\n\nEvent and Registratio
 n Information:  UpDogRegSep
CATEGORIES:UpDog Events
LOCATION:Finny Farm\,\, 6474 Morganton Road\, Greenback\, TN \, 37742\, Uni
 ted States
GEO:35.6675061;-84.1627408
X-APPLE-STRUCTURED-LOCATION;VALUE=URI;X-ADDRESS=6474 Morganton Road\, Green
 back\, TN \, 37742\, United States;X-APPLE-RADIUS=100;X-TITLE=Finny Farm\,
 :geo:35.6675061,-84.1627408
END:VEVENT
END:VCALENDAR