BEGIN:VCALENDAR
VERSION:2.0
PRODID:-//wp-events-plugin.com//6.4.7.1//EN
BEGIN:VEVENT
UID:1009@updogchallenge.com
DTSTART:20191006T150000Z
DTEND:20191006T230000Z
DTSTAMP:20190926T154243Z
URL:https://updogchallenge.com/events/gray-summit-mo-us-oct-6th-dragondogs
 -international/
SUMMARY:Gray Summit\, MO\, US - Oct 6th - DragonDogs International
DESCRIPTION:\n\n\nContact Name\nAndrea Rigler\n\n\nClub/ORG Name\nDragonDog
 s International\n\n\nContact Email address\ndragondogsdre@gmail.com\n\n\nC
 lub State\nMissouri\n\n\n\n\n\n\nEvent location full Address\nPurina Farm
 s 200 Checkerboard Loop Gray Summit\, MO\n\n\nStart Date\nOctober 6\, 2019
 \n\n\nEnd Date\nOctober 6\, 2019\n\n\nStart Time\n10:00 AM\n\n\nEnd Time\n
 6:00 PM\n\n\nGames you want to offer\n4WayPlay\, ThrowNGo\, Greedy\n\n\n\n
 \n\n\nAny other event information?\nPractice for Triple Crown event Oct 13
 th. This event will take place at the top agility field and pavilion.\n\n\
 n
CATEGORIES:UpDog Events
LOCATION:Purina Farms -- Flying Disc Field\, 200 Checkerboard Drive\, Gray 
 Summit\, MO \, 63039\, United States
GEO:38.4935448;-90.83624850000001
X-APPLE-STRUCTURED-LOCATION;VALUE=URI;X-ADDRESS=200 Checkerboard Drive\, Gr
 ay Summit\, MO \, 63039\, United States;X-APPLE-RADIUS=100;X-TITLE=Purina 
 Farms -- Flying Disc Field:geo:38.4935448,-90.83624850000001
END:VEVENT
END:VCALENDAR