BEGIN:VCALENDAR
VERSION:2.0
PRODID:-//wp-events-plugin.com//6.4.7.1//EN
BEGIN:VEVENT
UID:4510@updogchallenge.com
DTSTART:20251003T140000Z
DTEND:20251005T223000Z
DTSTAMP:20250831T185610Z
URL:https://updogchallenge.com/events/gray-summit-mo-us-oct-3rd-thru-5th-s
 t-louis-disc-dog-club/
SUMMARY:Gray Summit\, MO\, US - Oct 3rd thru 5th - St Louis Disc Dog Club
DESCRIPTION:\n\n\nClub Name\nSt Louis Disc Dog Club\n\n\nContact Name\nTroy
  Mool\n\n\nContact Email\naussiediscdog@me.com\n\n\nEvent Address\n500 Wil
 liam Danforth Way\, Gray Summit\, MO 63039\, United States\n\n\nEvent Star
 t Date\n10/3/2025\n\n\nEvent End Date\n10/5/2025\n\n\nEvent Start Time\n9
 :00 AM\n\n\nEvent End Time\n5:30 PM\n\n\nGames Being Played\nSee flyer bel
 ow\n\n\nLink for pre-registration:\nhttps://form.jotform.com/2522378588941
 71\n\n\n\n
CATEGORIES:UpDog Events
LOCATION:Purina Farms\, 500 William Danforth Way\, Gray Summit\, MO\, 63039
 \, United States
GEO:38.493434;-90.83163689999998
X-APPLE-STRUCTURED-LOCATION;VALUE=URI;X-ADDRESS=500 William Danforth Way\, 
 Gray Summit\, MO\, 63039\, United States;X-APPLE-RADIUS=100;X-TITLE=Purina
  Farms:geo:38.493434,-90.83163689999998
END:VEVENT
END:VCALENDAR