BEGIN:VCALENDAR
VERSION:2.0
PRODID:-//wp-events-plugin.com//6.4.7.1//EN
BEGIN:VEVENT
UID:1015@updogchallenge.com
DTSTART:20191029T150000Z
DTEND:20191029T213000Z
DTSTAMP:20191004T012327Z
URL:https://updogchallenge.com/events/gray-summit-mo-us-oct-29th-dragondog
 s-international/
SUMMARY:Gray Summit\, MO\, US - Oct 29th - DragonDogs International
DESCRIPTION:\n\n\nContact Name\nAndrea Rigler\n\n\nClub/ORG Name\nDragonDog
 s International\n\n\nContact Email address\ndragondogsdre@gmail.com\n\n\nC
 lub State\nMissouri\n\n\n\n\n\n\nEvent location full Address\nBorder Coll
 ie Nationals @ Purina Farms 200 Checkerboard Loop\, Gray Summit\, MO\n\n\n
 Start Date\nOctober 29\, 2019\n\n\nEnd Date\nOctober 29\, 2019\n\n\nStart 
 Time\n10:00 AM\n\n\nEnd Time\n4:30 PM\n\n\nGames you want to offer\nFrizgi
 lity\, Funkey\, 7UP\, Greedy\n\n\n
CATEGORIES:UpDog Events
LOCATION:Purina Farms -- Flying Disc Field\, 200 Checkerboard Drive\, Gray 
 Summit\, MO \, 63039\, United States
GEO:38.4935448;-90.83624850000001
X-APPLE-STRUCTURED-LOCATION;VALUE=URI;X-ADDRESS=200 Checkerboard Drive\, Gr
 ay Summit\, MO \, 63039\, United States;X-APPLE-RADIUS=100;X-TITLE=Purina 
 Farms -- Flying Disc Field:geo:38.4935448,-90.83624850000001
END:VEVENT
END:VCALENDAR