BEGIN:VCALENDAR
VERSION:2.0
PRODID:-//wp-events-plugin.com//6.4.7.1//EN
BEGIN:VEVENT
UID:1139@updogchallenge.com
DTSTART:20200307T140000Z
DTEND:20200308T223000Z
DTSTAMP:20200116T205911Z
URL:https://updogchallenge.com/events/graham-nc-us-march-7th-8th-tar-heel-
 toss-fetch/
SUMMARY:Graham\, NC\, US - March 7th & 8th - Tar Heel Toss & Fetch
DESCRIPTION:\n\n\nContact Name\nTimothy Lake\n\n\nClub/ORG Name\nTar Heel T
 oss and Fetch\n\n\nContact Email address\ntlake2568@gmail.com\n\n\nClub S
 tate\nNorth Carolina\n\n\n\n\n\n\nEvent location full Address\n4110 E Gree
 nsboro Chapel Hill Rd\, Graham\, NC 27253\n\n\nStart Date\nMarch 7\, 2020\
 n\n\nEnd Date\nMarch 8\, 2020\n\n\nStart Time\n9:00 AM\n\n\nEnd Time\n5:30
  PM\n\n\nGames you want to offer\n4WayPlay\, ThrowNGo\, Frizgility\, Space
 d Out\, Time Warp\, FarOut\, Greedy\n\n\n\n\n\n\nAny other event informati
 on?\nPre-Registration is available. Please sign up here:\nhttps://forms.gl
 e/oav7isYjJym2rBgJ8Saturday Games:\n1. Throw &amp\; Go\n2. 4 Way Play\n3. 
 Greedy\n4. Frizgility\n5. Far Out\n\nSunday\n1. Throw &amp\; Go\n2. 4 Way 
 Play\n3. Greedy\n4. Spaced out\n5. Time warp\n\n\n
CATEGORIES:UpDog Events
LOCATION:Graham\, NC\, 4110 E Greensboro Chapel Hill Rd\, Graham\, NC\, 272
 53\, United States
GEO:35.9073053;-79.2999436
X-APPLE-STRUCTURED-LOCATION;VALUE=URI;X-ADDRESS=4110 E Greensboro Chapel Hi
 ll Rd\, Graham\, NC\, 27253\, United States;X-APPLE-RADIUS=100;X-TITLE=Gra
 ham\, NC:geo:35.9073053,-79.2999436
END:VEVENT
END:VCALENDAR