BEGIN:VCALENDAR
VERSION:2.0
PRODID:-//wp-events-plugin.com//6.4.7.1//EN
BEGIN:VEVENT
UID:1998@updogchallenge.com
DTSTART:20220917T150000Z
DTEND:20220918T230000Z
DTSTAMP:20220810T014137Z
URL:https://updogchallenge.com/events/goshen-ct-us-sept-17th-18th-h2d2/
SUMMARY:Goshen\, CT\, US - Sept 17th & 18th - H2D2 - Triple Crown
DESCRIPTION:\n\n\nCLUB NAME\nH2D2\n\n\nCONTACT NAME\nCor Brewer Brewer\n\n\
 nCONTACT EMAIL\nbrewerad@aol.com\n\n\nEVENT ADDRESS\nDiamond Creek Canine 
 Sports Center\, 416 Old Middle St\, Goshen\, CT 06756\, United States\n\n\
 nEVENT START DATE\n9/17/2022\n\n\nEVENT END DATE\n9/18/2022\n\n\nEVENT ST
 ART TIME\n10:00 AM\n\n\nEVENT END TIME\n6:00 PM\n\n\nGAMES BEING PLAYED\nT
 o Be Determined\n\n\nADDITIONAL EVENT INFORMATION FOR PARTICIPANTS\nH2D2Di
 scdogs.com for pre-registration info.\nPlease reach out to Cor if you have
  additional questions - Brewerad@aol.com.\n\nThe Triple Crown will begin 
 Sunday the 18th at 1pm\n\n\n
CATEGORIES:UpDog Events
LOCATION:Diamond Creek Canine Sports Center\, 416 Old Middle Street \, Gosh
 en\,  CT \, 06756\, United States
GEO:41.804446;-73.21523000000002
X-APPLE-STRUCTURED-LOCATION;VALUE=URI;X-ADDRESS=416 Old Middle Street \, Go
 shen\,  CT \, 06756\, United States;X-APPLE-RADIUS=100;X-TITLE=Diamond Cre
 ek Canine Sports Center:geo:41.804446,-73.21523000000002
END:VEVENT
END:VCALENDAR