BEGIN:VCALENDAR
VERSION:2.0
PRODID:-//wp-events-plugin.com//6.4.7.1//EN
BEGIN:VEVENT
UID:1667@updogchallenge.com
DTSTART:20210604T140000Z
DTEND:20210606T230000Z
DTSTAMP:20210420T193612Z
URL:https://updogchallenge.com/events/freehold-nj-us-june-4th-thru-6th-pmc
 c-flyers/
SUMMARY:Freehold\, NJ\, US - June 4th thru 6th - PMCC Flyers
DESCRIPTION:\n\n\nCLUB NAME\nPMCC Flyers\n\n\nCONTACT NAME\nCarol Mount\n\n
 \nCONTACT EMAIL\npmccflyers@gmail.com\n\n\nEVENT ADDRESS\n1500 Kozloski R
 oad\, Freehold\, NJ 07728\, United States\n\n\nEVENT START DATE\n6/4/2021
 \n\n\nEVENT END DATE\n6/6/2021\n\n\nEVENT START TIME\n9:15 AM\n\n\nEVENT
  END TIME\n6:00 PM\n\n\nGAMES BEING PLAYED\nFour Way Play\nFrizgility\nGr
 eedy\n7Up\nSpaced Out\nThrow N Go\nTime Warp\nTo Be Determined\n\n\nADDITI
 ONAL EVENT INFORMATION FOR PARTICIPANTS\nThis event is being held outd
 oors on same show site as Bayshore CDC AKC agility\, FAST CAT and CAT eve
 nts\n\n\n
CATEGORIES:UpDog Events
LOCATION:Freehold\, NJ\, 1500 Kozloski Road\, Freehold\, NJ\, 07728\, Unite
 d States
GEO:40.256854;-74.249032
X-APPLE-STRUCTURED-LOCATION;VALUE=URI;X-ADDRESS=1500 Kozloski Road\, Freeho
 ld\, NJ\, 07728\, United States;X-APPLE-RADIUS=100;X-TITLE=Freehold\, NJ:g
 eo:40.256854,-74.249032
END:VEVENT
END:VCALENDAR