BEGIN:VCALENDAR
VERSION:2.0
PRODID:-//wp-events-plugin.com//6.4.7.1//EN
BEGIN:VEVENT
UID:3799@updogchallenge.com
DTSTART:20250823T140000Z
DTEND:20250824T230000Z
DTSTAMP:20240919T151549Z
URL:https://updogchallenge.com/events/frankford-on-ca-aug-23rd-24th-mc-dog
 -sports/
SUMMARY:Frankford\, ON\, CA - Aug 23rd & 24th - MC Dog Sports
DESCRIPTION:\n\n\nClub Name\nMC DOG SPORTS\n\n\nContact Name\nBRIAN AYLING\
 n\n\nContact Email\nMCDOGSPORTS@GMAIL.COM\n\n\nEvent Address\n323 Harringt
 on Rd\, Frankford\, ON K0K2C0\, Canada\n\n\nEvent Start Date\n8/23/2025\n\
 n\nEvent End Date\n8/24/2025\n\n\nEvent Start Time\n9:00 AM\n\n\nEvent En
 d Time\n6:00 PM\n\n\nGames Being Played\nTo Be Determined\n\n\n
CATEGORIES:UpDog Events
LOCATION:Frankford\, Ontario\, 323 HARRINGTON RD\, Frankford\, ON\, K0K2C0\
 , Canada
X-APPLE-STRUCTURED-LOCATION;VALUE=URI;X-ADDRESS=323 HARRINGTON RD\, Frankfo
 rd\, ON\, K0K2C0\, Canada;X-APPLE-RADIUS=100;X-TITLE=Frankford\, Ontario:g
 eo:0,0
END:VEVENT
END:VCALENDAR