BEGIN:VCALENDAR
VERSION:2.0
PRODID:-//wp-events-plugin.com//6.4.7.1//EN
BEGIN:VEVENT
UID:3716@updogchallenge.com
DTSTART:20240827T230000Z
DTEND:20240828T013000Z
DTSTAMP:20240818T004057Z
URL:https://updogchallenge.com/events/fort-wayne-inus-aug-27th-summit-city
 -disc-dog-group-2/
SUMMARY:Fort Wayne\, IN\,US - Aug 27th - Summit City Disc Dog Group
DESCRIPTION:\n\n\nClub Name\nSummit City Disc Dog Group\n\n\nContact Name\n
 Mark Smith\n\n\nContact Email\nsummitcityddg@hotmail.com\n\n\nEvent Addres
 s\nSolomon Farms\, 817 W Dupont Rd\, Fort Wayne\, Indiana 46825\, United S
 tates\n\n\nEvent Start Date\n8/27/2024\n\n\nEvent End Date\n8/27/2024\n\n\
 nEvent Start Time\n6:00 PM\n\n\nEvent End Time\n8:30 PM\n\n\nGames Being 
 Played\nTo Be Determined\n\n\nAdditional event information for participant
 s\nThis event is a points only\n\n\n
CATEGORIES:UpDog Events
LOCATION:Fort Wayne\, IN - Solomon Farms Park\, 817 W Dupont\, Fort Wayne\,
  Indiana\, 46825\, United Kingdom
X-APPLE-STRUCTURED-LOCATION;VALUE=URI;X-ADDRESS=817 W Dupont\, Fort Wayne\,
  Indiana\, 46825\, United Kingdom;X-APPLE-RADIUS=100;X-TITLE=Fort Wayne\, 
 IN - Solomon Farms Park:geo:0,0
END:VEVENT
END:VCALENDAR