BEGIN:VCALENDAR
VERSION:2.0
PRODID:-//wp-events-plugin.com//6.4.7.1//EN
BEGIN:VEVENT
UID:3402@updogchallenge.com
DTSTART:20240406T133000Z
DTEND:20240406T230000Z
DTSTAMP:20240218T221443Z
URL:https://updogchallenge.com/events/fort-pierce-fl-us-april-6th-disc-dog
 s-of-treasure-coast/
SUMMARY:Fort Pierce\, FL\, US - April 6th - Disc Dogs of Treasure Coast
DESCRIPTION:\n\n\nCLUB NAME\nDisc Dogs of Treasure Coast\n\n\nCONTACT NAME\
 nJulie Spring\n\n\nCONTACT EMAIL\ndiscdogsoftreasurecoast@gmail.com\n\n\nE
 VENT ADDRESS\n15601 Midway Rd\, Fort Pierce\, FL 34945\, United States\n\n
 \nEVENT START DATE\n4/6/2024\n\n\nEVENT END DATE\n4/6/2024\n\n\nEVENT STA
 RT TIME\n8:30 AM\n\n\nEVENT END TIME\n6:00 PM\n\n\nGAMES BEING PLAYED\nFou
 r Way Play\nFrizgility\nFunKey\nSpaced Out\nThrow N Go\nTime Warp\n\n\nLIN
 K FOR PRE-REGISTRATION:\nhttps://forms.gle/5aVSyYQa3WwhDUHY8\n\n\n\n
CATEGORIES:UpDog Events
LOCATION:Fort Pierce\, Florida\, 15601 W Midway Rd\, Fort Pierce\, FL\, 349
 45\, United States
GEO:27.373814;-80.472541
X-APPLE-STRUCTURED-LOCATION;VALUE=URI;X-ADDRESS=15601 W Midway Rd\, Fort Pi
 erce\, FL\, 34945\, United States;X-APPLE-RADIUS=100;X-TITLE=Fort Pierce\,
  Florida:geo:27.373814,-80.472541
END:VEVENT
END:VCALENDAR