BEGIN:VCALENDAR
VERSION:2.0
PRODID:-//wp-events-plugin.com//6.4.7.1//EN
BEGIN:VEVENT
UID:273@updogchallenge.com
DTSTART:20170506T213000Z
DTEND:20170507T013000Z
DTSTAMP:20170503T070812Z
URL:https://updogchallenge.com/events/florida-after-dark-1/
SUMMARY:Florida After Dark #1
DESCRIPTION:May 6th 5pm – players meeting at 4:45pm\nAnderson Snow Park\,
  Spring Hill\, FL\n$35 for all 3 games or $13 per individual game\nDay of 
 show entries will be allowed if this event does not fill. $14 per game.\nT
 hrow N Go L1 or L2\, Four Way Play L1 or L2\, Spaced Out L1 or L2\n\nTo Pr
 e-Register email Allison Marsh with the following information:\nE-mail: aa
 marsh104@gmail.com\n1. COPY THE ENTRY BELOW.\n2. PASTE\, INTO AN E-MAIL.\n
 3. FILL OUT AREAS.\n4. RETURN E-MAIL TO: Allison Marsh at aamarsh104@gmail
 .com\n5. YOU WILL RECEIVE A RESPONSE WITH A LINK TO PAYPAL.\n* Required Fi
 elds\n*Handler Name: _________________________\n*Dog Name: _______________
 ______________\n*Email Address: _________________________\n*UpDog Team Num
 ber: __________________\n*Jump Height: ______________________\n*Games Ente
 red and Level: ________________________\nGames\n4 Way Play L1 or L2\nSpace
 d Out L1 or L2\nThrow N Go L1 or L2
CATEGORIES:UpDog Events
LOCATION:CFDDC Spring Hill\, 1360 Anderson Snow Rd\, Spring Hill\, FL\,  34
 609\, United States
GEO:28.459168;-82.48444999999998
X-APPLE-STRUCTURED-LOCATION;VALUE=URI;X-ADDRESS=1360 Anderson Snow Rd\, Spr
 ing Hill\, FL\,  34609\, United States;X-APPLE-RADIUS=100;X-TITLE=CFDDC Sp
 ring Hill:geo:28.459168,-82.48444999999998
END:VEVENT
END:VCALENDAR