BEGIN:VCALENDAR
VERSION:2.0
PRODID:-//wp-events-plugin.com//6.4.7.1//EN
BEGIN:VEVENT
UID:757@updogchallenge.com
DTSTART:20190331T133000Z
DTEND:20190331T230000Z
DTSTAMP:20190131T224939Z
URL:https://updogchallenge.com/events/flamborough-on-ca-march-31st-four-pa
 ws-flying/
SUMMARY:Flamborough\, ON\, CA - March 31st - Four Paws Flying
DESCRIPTION:\n\n\nContact Name\nJenelle Miller\n\n\nClub/ORG Name\nFour Paw
 s Flying\n\n\nContact Email address\njenelle.fourpawsflying@gmail.com\n\n\
 nClub State\nON\n\n\n\n\n\n\nEvent location full Address\nMcCann Professio
 nal Dogs 929 Brock Rd. Flamborough\, ON L9H 5E4\n\n\nStart Date\nMarch 31\
 , 2019\n\n\nStart Time\n8:30 AM\n\n\nEnd Time\n6:00 PM\n\n\nGames you want
  to offer\n4WayPlay\, ThrowNGo\, Frizgility\, Freestyle\, Time Warp\n\n\n
CATEGORIES:UpDog Events
LOCATION:McCanns Agility Arena\, 929 Brock Rd\, R.R. #4\, Flamborough\, Ont
 ario\, L9H 5E4\, Canada
GEO:43.3303179;-80.0182848
X-APPLE-STRUCTURED-LOCATION;VALUE=URI;X-ADDRESS=929 Brock Rd\, R.R. #4\, Fl
 amborough\, Ontario\, L9H 5E4\, Canada;X-APPLE-RADIUS=100;X-TITLE=McCanns 
 Agility Arena:geo:43.3303179,-80.0182848
END:VEVENT
END:VCALENDAR