BEGIN:VCALENDAR
VERSION:2.0
PRODID:-//wp-events-plugin.com//6.4.7.1//EN
BEGIN:VEVENT
UID:3083@updogchallenge.com
DTSTART:20240608T143000Z
DTEND:20240608T220000Z
DTSTAMP:20230926T005512Z
URL:https://updogchallenge.com/events/fairview-pa-us-june-8th-puptopia/
SUMMARY:Fairview\, PA\, US - June 8th - Puptopia
DESCRIPTION:\n\n\nCLUB NAME\nPuptopia\n\n\nCONTACT NAME\nLisa Yan\n\n\nCONT
 ACT EMAIL\nlisapuptopia@gmail.com\n\n\nEVENT ADDRESS\n6189 Heidler Road\, 
 Fairview\, PA 16415\, United States\n\n\nEVENT START DATE\n6/8/2024\n\n\nE
 VENT END DATE\n6/8/2024\n\n\nEVENT START TIME\n9:30 AM\n\n\nEVENT END TIM
 E\n5:00 PM\n\n\nGAMES BEING PLAYED\nTo Be Determined\n\n\nLINK FOR PRE-REG
 ISTRATION:\nhttps://form.jotform.com/201403496144045\n\n\n
CATEGORIES:UpDog Events
LOCATION:Fairview\, PA\, 5470 Millfair Road\, Fairview\, PA\, 16415\, Unite
 d States
GEO:42.041617;-80.185
X-APPLE-STRUCTURED-LOCATION;VALUE=URI;X-ADDRESS=5470 Millfair Road\, Fairvi
 ew\, PA\, 16415\, United States;X-APPLE-RADIUS=100;X-TITLE=Fairview\, PA:g
 eo:42.041617,-80.185
END:VEVENT
END:VCALENDAR