BEGIN:VCALENDAR
VERSION:2.0
PRODID:-//wp-events-plugin.com//6.4.7.1//EN
BEGIN:VEVENT
UID:4685@updogchallenge.com
DTSTART:20260307T140000Z
DTEND:20260307T200000Z
DTSTAMP:20251021T212040Z
URL:https://updogchallenge.com/events/eustis-fl-us-march-7th-central-flori
 da-k9/
SUMMARY:Eustis\, FL\, US - March 7th - Central Florida K9
DESCRIPTION:\n\n\nClub Name\nCentral Florida K9\n\n\nContact Name\nJustin S
 mith\n\n\nContact Email\nsmithhm.info@gmail.com\n\n\nEvent Address\n27101 
 County Rd 44A\, Eustis\, FL 32736\, United States\n\n\nEvent Start Date\n3
 /7/2026\n\n\nEvent End Date\n3/7/2026\n\n\nEvent Start Time\n9:00 AM\n\n\
 nEvent End Time\n3:00 PM\n\n\nGames Being Played\nTo Be Determined\n\n\nLi
 nk for pre-registration:\nhttps://forms.gle/s99hzR5UBDe6RVhj7\n\n\n
CATEGORIES:UpDog Events
LOCATION:Central Florida K9 Eustis\, FL\, 27101 County Rd 44A\, Eustis\, FL
 \, 32736\, United States
X-APPLE-STRUCTURED-LOCATION;VALUE=URI;X-ADDRESS=27101 County Rd 44A\, Eusti
 s\, FL\, 32736\, United States;X-APPLE-RADIUS=100;X-TITLE=Central Florida 
 K9 Eustis\, FL:geo:0,0
END:VEVENT
END:VCALENDAR