BEGIN:VCALENDAR
VERSION:2.0
PRODID:-//wp-events-plugin.com//6.4.7.1//EN
BEGIN:VEVENT
UID:2246@updogchallenge.com
DTSTART:20220924T150000Z
DTEND:20220924T220000Z
DTSTAMP:20220909T232228Z
URL:https://updogchallenge.com/events/erie-pa-us-sept-24th-erie-ultimate-d
 isc-dogs/
SUMMARY:Erie\, PA\, US - Sept 24th - Erie Ultimate Disc Dogs
DESCRIPTION:\n\n\nCLUB NAME\nErie Ultimate Disc Dogs\n\n\nCONTACT NAME\nLis
 a Yan\n\n\nCONTACT EMAIL\neudd@puptopiadogs.com\n\n\nEVENT ADDRESS\nGreen
 e Township Field 9333 Tate Rd. Erie\, PA 16509\n\n\nEVENT START DATE\n
 9/24/2022\n\n\nEVENT END DATE\n9/24/2022\n\n\nEVENT START TIME\n10:00 AM
 \n\n\nEVENT END TIME\n5:00 PM\n\n\nGAMES BEING PLAYED\nThrow and Go\n4 Wa
 y Play\nFrizgility\nBoom\nTime Warp\n7 Up\n\n\n\n\nhttps://form.jotform.co
 m/201403496144045
CATEGORIES:UpDog Events
LOCATION:Greene Township Field\,  9333 Tate Rd. \, Erie\, PA \, 16509\, U
 nited States
GEO:42.063381;-79.976737
X-APPLE-STRUCTURED-LOCATION;VALUE=URI;X-ADDRESS= 9333 Tate Rd. \, Erie\, P
 A \, 16509\, United States;X-APPLE-RADIUS=100;X-TITLE=Greene Township Fie
 ld:geo:42.063381,-79.976737
END:VEVENT
END:VCALENDAR