BEGIN:VCALENDAR
VERSION:2.0
PRODID:-//wp-events-plugin.com//6.4.7.1//EN
BEGIN:VEVENT
UID:911@updogchallenge.com
DTSTART:20190730T223000Z
DTEND:20190731T010000Z
DTSTAMP:20190714T152359Z
URL:https://updogchallenge.com/events/elkton-md-us-july-30th-elkton-toss-f
 etch-league/
SUMMARY:Elkton\, MD\, US - July 30th - Elkton Toss & Fetch League
DESCRIPTION:\n\n\nContact Name\nLaura O'Neill\n\n\nClub/ORG Name\nElkton To
 ss &amp\; Fetch League\n\n\nContact Email address\nwickedfrenzy@verizon.ne
 t\n\n\nClub State\nMD\n\n\n\n\n\n\nEvent location full Address\nGet Rev'd 
 Agility: 312 Middle Road\, Elkton\, MD\, 21921\n\n\nStart Date\nJuly 30\, 
 2019\n\n\nEnd Date\nJuly 30\, 2019\n\n\nStart Time\n5:30 PM\n\n\nEnd Time\
 n8:00 PM\n\n\nGames you want to offer\nFour Way Play\n\n\n\n\n\n\nAny othe
 r event information?\nThese are going to Run as Points Only events (will p
 rovide certificate placements only).\n\nWeek 3: 7/30 - 4WP\nFacebook Event
 \nhttps://www.facebook.com/events/861743090867706/\n\n\n
CATEGORIES:UpDog Events
LOCATION:Get Rev'd Agility\, 312 Middle Road\, Elkton\, MD\, 21921\, United
  States
GEO:39.68266300000001;-75.90414499999997
X-APPLE-STRUCTURED-LOCATION;VALUE=URI;X-ADDRESS=312 Middle Road\, Elkton\, 
 MD\, 21921\, United States;X-APPLE-RADIUS=100;X-TITLE=Get Rev'd Agility:ge
 o:39.68266300000001,-75.90414499999997
END:VEVENT
END:VCALENDAR