BEGIN:VCALENDAR
VERSION:2.0
PRODID:-//wp-events-plugin.com//6.4.7.1//EN
BEGIN:VEVENT
UID:383@updogchallenge.com
DTSTART;VALUE=DATE:20171125
DTEND;VALUE=DATE:20171126
DTSTAMP:20171127T215712Z
URL:https://updogchallenge.com/events/davison-mi-us-nov-25th-ddom/
SUMMARY:Davison\, MI\, US - Nov 25th - DDOM
DESCRIPTION:\n\n\nContact Name\nScott Jones\n\n\nClub/ORG Name\nDisc Dogs o
 f MI\n\n\nContact Email address\nfrisbeejones@gmail.com\n\n\nClub State\nM
 ichigan\n\n\n\n\n\n\nEvent location full Address\nDDOM Field 6259 E Potter
  Rd\n\n\nStart Date\nNovember 25\, 2017\n\n\n\n\n\n\nGames you want to off
 er\n4WayPlay\, ThrowNGo\, Spaced Out\, Time Warp\n\n\n
LOCATION:DDOM Davison\, 6259 E. Potter Rd \, Davison \, MI \, 48423\, Unite
 d States
GEO:43.052217;-83.58685700000001
X-APPLE-STRUCTURED-LOCATION;VALUE=URI;X-ADDRESS=6259 E. Potter Rd \, Daviso
 n \, MI \, 48423\, United States;X-APPLE-RADIUS=100;X-TITLE=DDOM Davison:g
 eo:43.052217,-83.58685700000001
END:VEVENT
END:VCALENDAR