BEGIN:VCALENDAR
VERSION:2.0
PRODID:-//wp-events-plugin.com//6.4.7.1//EN
BEGIN:VEVENT
UID:411@updogchallenge.com
DTSTART:20180512T140000Z
DTEND:20180513T220000Z
DTSTAMP:20180109T195329Z
URL:https://updogchallenge.com/events/davison-mi-us-may-12th-13th-ddom/
SUMMARY:Davison\, MI\, US - May 12th & 13th - DDOM
DESCRIPTION:Contact Name\nScott Jones\n\nClub/ORG Name\nDDOM\n\nContact Ema
 il address\nfrisbeejones@gmail.com\n\nEvent location\nDDOM Field 6259 E P
 otter Rd Davison MI 48423\n\nDate - May 12th and 13th\n\nStart Time\n9:00
  AM\nEnd Time\n5:00 PM\n\nAny other event information?\nAll runs will be $
 8. We will offer level 1 and Level 2 in all games.\nSaturday\nThrow n go\n
 Frizgility\n4 way\nTime Warp\nSpaced Out\nSunday\nThrow n go\nFrizgility\n
 4 way pairs\n7up\nFreestyle
CATEGORIES:UpDog Events
LOCATION:DDOM Davison\, 6259 E. Potter Rd \, Davison \, MI \, 48423\, Unite
 d States
GEO:43.052217;-83.58685700000001
X-APPLE-STRUCTURED-LOCATION;VALUE=URI;X-ADDRESS=6259 E. Potter Rd \, Daviso
 n \, MI \, 48423\, United States;X-APPLE-RADIUS=100;X-TITLE=DDOM Davison:g
 eo:43.052217,-83.58685700000001
END:VEVENT
END:VCALENDAR