BEGIN:VCALENDAR
VERSION:2.0
PRODID:-//wp-events-plugin.com//6.4.7.1//EN
BEGIN:VEVENT
UID:686@updogchallenge.com
DTSTART:20181208T050000Z
DTEND:20181209T050000Z
DTSTAMP:20181205T031654Z
URL:https://updogchallenge.com/events/davison-mi-us-dec-8th-9th-disc-dogs-
 of-michigan/
SUMMARY:Davison\, MI\, US - Dec 8th & 9th - Disc Dogs of Michigan
DESCRIPTION:\n\n\nContact Name\nScott Jones\n\n\nClub/ORG Name\nDDOM\n\n\nC
 ontact Email address\nfrisbeejones@gmail.com\n\n\nClub State\nMI\n\n\nCont
 acts Mobile Phone\n2487360687\n\n\nEvent location full Address\nDDOM Field
  6259 E Potter Rd Davison MI 48423\n\n\nStart Date\nDecember 8\, 2018\n\n\
 nEnd Date\nDecember 9\, 2018\n\n\n\n\n\n\nGames you want to offer\n4WayPla
 y\, ThrowNGo\, Frizgility\n\n\n
CATEGORIES:UpDog Events
LOCATION:DDOM Davison\, 6259 E. Potter Rd \, Davison \, MI \, 48423\, Unite
 d States
GEO:43.052217;-83.58685700000001
X-APPLE-STRUCTURED-LOCATION;VALUE=URI;X-ADDRESS=6259 E. Potter Rd \, Daviso
 n \, MI \, 48423\, United States;X-APPLE-RADIUS=100;X-TITLE=DDOM Davison:g
 eo:43.052217,-83.58685700000001
END:VEVENT
END:VCALENDAR