BEGIN:VCALENDAR
VERSION:2.0
PRODID:-//wp-events-plugin.com//6.4.7.1//EN
BEGIN:VEVENT
UID:1096@updogchallenge.com
DTSTART:20200411T140000Z
DTEND:20200412T220000Z
DTSTAMP:20200318T172006Z
URL:https://updogchallenge.com/events/davison-mi-us-april-11th-12th-ddom/
SUMMARY:Cancelled - Davison\, MI\, US - April 11th & 12th - DDOM
DESCRIPTION:This event has been cancelled.\n\n\n\nContact Name\nScott Jones
 \n\n\nClub/ORG Name\nDDOM\n\n\nContact Email address\nfrisbeejones@gmail.c
 om\n\n\nClub State\nMI\n\n\n\n\n\n\nEvent location full Address\nDDOM Fie
 ld 6259 E Potter Rd Davison MI 48423\n\n\nStart Date\nApril 11\, 2020\n\n\
 nEnd Date\nApril 12\, 2020\n\n\nStart Time\n9:00 AM\n\n\nEnd Time\n5:00 PM
 \n\n\nGames you want to offer\n4WayPlay\, ThrowNGo\, Frizgility\, Funkey\,
  Spaced Out\, Time Warp\, FarOut\, 7UP\, Greedy\n\n\n
CATEGORIES:UpDog Events
LOCATION:DDOM Davison\, 6259 E. Potter Rd \, Davison \, MI \, 48423\, Unite
 d States
GEO:43.052217;-83.58685700000001
X-APPLE-STRUCTURED-LOCATION;VALUE=URI;X-ADDRESS=6259 E. Potter Rd \, Daviso
 n \, MI \, 48423\, United States;X-APPLE-RADIUS=100;X-TITLE=DDOM Davison:g
 eo:43.052217,-83.58685700000001
END:VEVENT
END:VCALENDAR