BEGIN:VCALENDAR
VERSION:2.0
PRODID:-//wp-events-plugin.com//6.4.7.1//EN
BEGIN:VEVENT
UID:2220@updogchallenge.com
DTSTART:20221001T140000Z
DTEND:20221002T210000Z
DTSTAMP:20220729T222623Z
URL:https://updogchallenge.com/events/davie-fl-us-oct-1st-disc-dogs-of-mia
 mi/
SUMMARY:Davie\, FL\, US - Oct 1st & 2nd - Disc Dogs of Miami
DESCRIPTION:\n\n\nCLUB NAME\nDisc Dogs of Miami\n\n\nCONTACT NAME\nREBECCA 
 PASKO\n\n\nCONTACT EMAIL\nRebecca@happywithdogs.com\n\n\nEVENT ADDRESS\n42
 71 SW 64 Ave\, Davie\, FL 33314\, United States\n\n\nEVENT START DATE\n10/
 1/2022\n\n\nEVENT END DATE\n10/2/2022\n\n\nEVENT START TIME\n9:00 AM\n\n\
 nEVENT END TIME\n4:00 PM\n\n\nGAMES BEING PLAYED\nTo Be Determined\n\n\nAD
 DITIONAL EVENT INFORMATION FOR PARTICIPANTS\nCanine Round Up Cluster\nBerg
 eron Rodeo Arena\n4271 SW 64 Ave\, Davie\, FL 33314\nDock Diving\, FCAT\, 
 Barn Hunt\, Rally\, and UpDog Challenge.\n\n\n\n&nbsp\;\nLoading…
CATEGORIES:UpDog Events
LOCATION:Bergeron Rodeo Arena - Davie\, FL\, 4271 SW 64 Ave\, Davie\, FL\, 
 33314\, United States
GEO:26.068047;-80.232607
X-APPLE-STRUCTURED-LOCATION;VALUE=URI;X-ADDRESS=4271 SW 64 Ave\, Davie\, FL
 \, 33314\, United States;X-APPLE-RADIUS=100;X-TITLE=Bergeron Rodeo Arena -
  Davie\, FL:geo:26.068047,-80.232607
END:VEVENT
END:VCALENDAR