BEGIN:VCALENDAR
VERSION:2.0
PRODID:-//wp-events-plugin.com//6.4.7.1//EN
BEGIN:VEVENT
UID:961@updogchallenge.com
DTSTART:20191013T150000Z
DTEND:20191013T210000Z
DTSTAMP:20190810T193628Z
URL:https://updogchallenge.com/events/dahlonega-ga-us-oct-13th-atlanta-dis
 c-dogs-updog-triple-crown-site/
SUMMARY:Dahlonega\, GA\, US - Oct 13th - Atlanta Disc Dogs - UpDog Triple C
 rown Site
DESCRIPTION:\n\n\nContact Name\nEmani Stryker\n\n\nClub/ORG Name\nAtlanta D
 isc Dogs\n\n\nContact Email address\n\n\n\n\natlantadiscdogs@gmail.com\n\n
 \n\n\n\n\nClub State\nGA\n\n\n\n\n\n\nEvent location full Address\nYahool
 a Creek Park 464 Mechanicsville Rd\, Dahlonega\, GA 30533\n\n\nStart Date\
 nOctober 13\, 2019\n\n\nEnd Date\nOctober 13\, 2019\n\n\nStart Time\n10:00
  AM\n\n\nEnd Time\n4:00 PM\n\n\nGames you want to offer\n4WayPlay\, ThrowN
 Go\, Greedy\n\n\n\n&nbsp\;\n\nUpDog Triple Crown Worldwide Championship\n\
 nFor more information and registration go to the main event page:  World
 wide Triple Crown Event Page
CATEGORIES:UpDog Events
LOCATION:Yahoola Creek Park\, 464 Mechanicsville Rd\, Dahlonega\, GA\, 3053
 3\, United States
GEO:34.52980900000001;-83.96909399999998
X-APPLE-STRUCTURED-LOCATION;VALUE=URI;X-ADDRESS=464 Mechanicsville Rd\, Dah
 lonega\, GA\, 30533\, United States;X-APPLE-RADIUS=100;X-TITLE=Yahoola Cre
 ek Park:geo:34.52980900000001,-83.96909399999998
END:VEVENT
END:VCALENDAR