BEGIN:VCALENDAR
VERSION:2.0
PRODID:-//wp-events-plugin.com//6.4.7.1//EN
BEGIN:VEVENT
UID:1434@updogchallenge.com
DTSTART:20201031T140000Z
DTEND:20201101T210000Z
DTSTAMP:20201010T183843Z
URL:https://updogchallenge.com/events/dade-city-fl-us-oct-31st-nov-1st-cfd
 dc/
SUMMARY:Dade City\, FL\, US - Oct 31st & Nov 1st - CFDDC
DESCRIPTION:Join us for some UpDog and Canis Major fun October 31st and Nov
 ember 1st.\n\nHalloween themed event with fun prizes!\n\n&nbsp\;\n\nCognit
 o.load("forms"\, { id: "67" })\;
CATEGORIES:UpDog Events
LOCATION:Fahle Flying Disc Farm\, 18446 Sweetbay Ln\, Dade City\, FL\, 3352
 3\, United States
GEO:28.426921;-82.345241
X-APPLE-STRUCTURED-LOCATION;VALUE=URI;X-ADDRESS=18446 Sweetbay Ln\, Dade Ci
 ty\, FL\, 33523\, United States;X-APPLE-RADIUS=100;X-TITLE=Fahle Flying Di
 sc Farm:geo:28.426921,-82.345241
END:VEVENT
END:VCALENDAR