BEGIN:VCALENDAR
VERSION:2.0
PRODID:-//wp-events-plugin.com//6.4.7.1//EN
BEGIN:VEVENT
UID:2515@updogchallenge.com
DTSTART:20230218T140000Z
DTEND:20230218T220000Z
DTSTAMP:20230218T020525Z
URL:https://updogchallenge.com/events/dade-city-fl-us-feb-18th-cfddc/
SUMMARY:CANCELED = Dade City\, FL\, US - Feb 18th - CFDDC
DESCRIPTION:Join us for some pre-Fat Tuesday Pawdi Gras fun!\n\n&nbsp\;\n\n
CATEGORIES:UpDog Events
LOCATION:Fahle Flying Disc Farm\, 18446 Sweetbay Ln\, Dade City\, FL\, 3352
 3\, United States
GEO:28.426921;-82.345241
X-APPLE-STRUCTURED-LOCATION;VALUE=URI;X-ADDRESS=18446 Sweetbay Ln\, Dade Ci
 ty\, FL\, 33523\, United States;X-APPLE-RADIUS=100;X-TITLE=Fahle Flying Di
 sc Farm:geo:28.426921,-82.345241
END:VEVENT
END:VCALENDAR