BEGIN:VCALENDAR
VERSION:2.0
PRODID:-//wp-events-plugin.com//6.4.7.1//EN
BEGIN:VEVENT
UID:1905@updogchallenge.com
DTSTART:20211218T140000Z
DTEND:20211219T220000Z
DTSTAMP:20211122T024202Z
URL:https://updogchallenge.com/events/dade-city-fl-us-dec-18th-19th-cfddc/
SUMMARY:Dade City\, FL\, US - Dec 18th & 19th - CFDDC
DESCRIPTION:\n\n\nCLUB NAME\nCFDDC\n\n\nCONTACT NAME\nKat Fahle\n\n\nCONTAC
 T EMAIL\nkatfahle@gmail.com\n\n\nEVENT ADDRESS\n18446 Sweetbay Ln Dade Cit
 y\, FL  33523\n\n\nEVENT START DATE\n12/18/2021\n\n\nEVENT END DATE\n12/1
 9/2021\n\n\nEVENT START TIME\n9:00 AM Saturday\n\n9:30 AM Sunday\n\n\nEVE
 NT END TIME\n5:00 PM\n\n\nGAMES BEING PLAYED\nSaturday we will have the CF
 DDC holiday party and year end awards immediately following the UpDog even
 t.  Sunday will be the Zitella Solomon Catch for the Cure.  Registration
  will open in November.\n\n\n\n&nbsp\;\n\nCognito.load("forms"\, { id: "11
 0" })\;
CATEGORIES:UpDog Events
LOCATION:Fahle Flying Disc Farm\, 18446 Sweetbay Ln\, Dade City\, FL\, 3352
 3\, United States
GEO:28.426921;-82.345241
X-APPLE-STRUCTURED-LOCATION;VALUE=URI;X-ADDRESS=18446 Sweetbay Ln\, Dade Ci
 ty\, FL\, 33523\, United States;X-APPLE-RADIUS=100;X-TITLE=Fahle Flying Di
 sc Farm:geo:28.426921,-82.345241
END:VEVENT
END:VCALENDAR