BEGIN:VCALENDAR
VERSION:2.0
PRODID:-//wp-events-plugin.com//6.4.7.1//EN
BEGIN:VEVENT
UID:3724@updogchallenge.com
DTSTART:20240825T133000Z
DTEND:20240825T163000Z
DTSTAMP:20240819T015954Z
URL:https://updogchallenge.com/events/dade-city-fl-us-aug-25th-cfddc/
SUMMARY:Dade City\, FL\, US - Aug 25th - CFDDC
DESCRIPTION:\n\n\nCLUB NAME\nCFDDC\n\n\nCONTACT NAME\nKat Fahle\n\n\nCONTAC
 T EMAIL\nkatfahle@gmail.com\n\n\nEVENT ADDRESS\n18446 Sweetbay Ln Dade Ci
 ty FL  33523\n\n\nEVENT START DATE\n8/25/2024\n\n\nEVENT END DATE\n8/25
 /2024\n\n\nEVENT START TIME\n8:30 AM\n\n\nEVENT END TIME\n11:30 PM\n\n\nG
 ames\nFreestyle\n\n\n\nThis is a Freestyle Points Only event\n\n&nbsp\;\n\
 n\n\n&nbsp\;\n\n&nbsp\;\n
CATEGORIES:UpDog Events
LOCATION:Dade City\, Florida\, 18446 Sweetbay Ln\, Dade City\, FL\, 33523\,
  United States
X-APPLE-STRUCTURED-LOCATION;VALUE=URI;X-ADDRESS=18446 Sweetbay Ln\, Dade Ci
 ty\, FL\, 33523\, United States;X-APPLE-RADIUS=100;X-TITLE=Dade City\, Flo
 rida:geo:0,0
END:VEVENT
END:VCALENDAR