BEGIN:VCALENDAR
VERSION:2.0
PRODID:-//wp-events-plugin.com//6.4.7.1//EN
BEGIN:VEVENT
UID:628@updogchallenge.com
DTSTART;VALUE=DATE:20181110
DTEND;VALUE=DATE:20181112
DTSTAMP:20180910T204056Z
URL:https://updogchallenge.com/events/dacula-ga-us-nov-10th-11th-brightsid
 e-dog-training/
SUMMARY:Dacula\, GA\, US - Nov 10th & 11th - Brightside Dog Training
DESCRIPTION:\n\n\nContact Name\nMaggie Fan\n\n\nClub/ORG Name\nBrightside D
 og Training\n\n\nContact Email address\nmfan90@gmail.com\n\n\nClub State\
 nGA\n\n\n\n\n\n\nEvent location full Address\n2032 Jones Phillips Road\, D
 acula\, GA 30019\n\n\nStart Date\nNovember 10\, 2018\n\n\nEnd Date\nNovemb
 er 11\, 2018\n\n\nGames you want to offer\n4WayPlay\, ThrowNGo\, Frizgilit
 y\, Funkey\, Spaced Out\, Time Warp\, 7UP\n\n\n
CATEGORIES:UpDog Events
LOCATION:Brightside Training\, 2032 Jones Phillips Rd \, Dacula \, Ga \, 30
 019\, United States
GEO:33.945375;-83.852598
X-APPLE-STRUCTURED-LOCATION;VALUE=URI;X-ADDRESS=2032 Jones Phillips Rd \, D
 acula \, Ga \, 30019\, United States;X-APPLE-RADIUS=100;X-TITLE=Brightside
  Training:geo:33.945375,-83.852598
END:VEVENT
END:VCALENDAR