BEGIN:VCALENDAR
VERSION:2.0
PRODID:-//wp-events-plugin.com//6.4.7.1//EN
BEGIN:VEVENT
UID:1084@updogchallenge.com
DTSTART:20191207T140000Z
DTEND:20191208T220000Z
DTSTAMP:20191118T223026Z
URL:https://updogchallenge.com/events/dacula-ga-us-dec-7th-8th-brightside-
 dog-training/
SUMMARY:Dacula\, GA\, US - Dec 7th & 8th - Brightside Dog Training
DESCRIPTION:\n\n\nContact Name\nMaggie Fan\n\n\nClub/ORG Name\nBrightside D
 og Training\n\n\nContact Email address\nmfan90@gmail.com\n\n\nClub State\
 nGA\n\n\n\n\n\n\nEvent location full Address\n2032 Jones Phillips Rd\, Dac
 ula\, GA 30019\n\n\nStart Date\nDecember 7\, 2019\n\n\nEnd Date\nDecember 
 8\, 2019\n\n\nStart Time\n9:00 AM\n\n\nGames you want to offer\n4WayPlay\,
  ThrowNGo\, Frizgility\, Funkey\, Spaced Out\, Time Warp\, 7UP\, Greedy\n\
 n\n
CATEGORIES:UpDog Events
LOCATION:Brightside Training\, 2032 Jones Phillips Rd \, Dacula \, Ga \, 30
 019\, United States
GEO:33.945375;-83.852598
X-APPLE-STRUCTURED-LOCATION;VALUE=URI;X-ADDRESS=2032 Jones Phillips Rd \, D
 acula \, Ga \, 30019\, United States;X-APPLE-RADIUS=100;X-TITLE=Brightside
  Training:geo:33.945375,-83.852598
END:VEVENT
END:VCALENDAR