BEGIN:VCALENDAR
VERSION:2.0
PRODID:-//wp-events-plugin.com//6.4.7.1//EN
BEGIN:VEVENT
UID:2584@updogchallenge.com
DTSTART:20230923T133000Z
DTEND:20230924T220000Z
DTSTAMP:20230123T164345Z
URL:https://updogchallenge.com/events/coquitlam-bc-ca-sept-23rd-24th-dogwo
 rks-training/
SUMMARY:Coquitlam\, BC\, CA - Sept 23rd & 24th - DogWorks Training
DESCRIPTION:\n\n\nCLUB NAME\nDogWorks Training\n\n\nCONTACT NAME\nJulia Sch
 wark\n\n\nCONTACT EMAIL\njulia.dogworks@gmail.com\n\n\nEVENT ADDRESS\nEag
 le Mountain Park\, 1799 Eagle Mountain Dr\, Coquitlam\, BC V3E2Z3\, Canada
 \n\n\nEVENT START DATE\n9/23/2023\n\n\nEVENT END DATE\n9/24/2023\n\n\nEV
 ENT START TIME\n8:30 AM\n\n\nEVENT END TIME\n5:00 PM\n\n\nGAMES BEING PL
 AYED\nTo Be Determined\n\n\n
CATEGORIES:UpDog Events
LOCATION:Coquitlam\, BC\, 1799 Eagle Mountain Dr\, Coquitlam\, BC\, V3E 2Z3
 \, Canada
GEO:49.3107718;-122.80934000000002
X-APPLE-STRUCTURED-LOCATION;VALUE=URI;X-ADDRESS=1799 Eagle Mountain Dr\, Co
 quitlam\, BC\, V3E 2Z3\, Canada;X-APPLE-RADIUS=100;X-TITLE=Coquitlam\, BC:
 geo:49.3107718,-122.80934000000002
END:VEVENT
END:VCALENDAR