BEGIN:VCALENDAR
VERSION:2.0
PRODID:-//wp-events-plugin.com//6.4.7.1//EN
BEGIN:VEVENT
UID:619@updogchallenge.com
DTSTART:20181130T140000Z
DTEND:20181203T000000Z
DTSTAMP:20181108T194923Z
URL:https://updogchallenge.com/events/chillydog-cinco/
SUMMARY:ChillyDog Cinco
DESCRIPTION:The ChillyDog Challenge\nEvery year this event is bigger and be
 tter and full of new games\, surprises and extras. Last year we had more 
 than 80 teams from around the country playing more than 300 rounds of UpDo
 g games.\nThis is the last chance for many teams to get the points they ne
 ed to Qualify for UpDog International Finals.\nOur 5th year will once agai
 n be a 3 day Funstravaganza  at Purina Farms\, an event so epic we could 
 sell out in just hours.\nThe goal was to offer something unique\, and ... 
 maybe set a few new records.\n\nWe play on turf\, inside\, on (2) 30 yard 
 fields that convert to one full field.  We use tape\, lots of tape\, and 
 some curtains \;)\n\nWhat's new this year?\nIts an easy theme this year. 
   Cinco!\nSo the centerpiece of the event will be:\n5 rounds of Freestyle
 .  Yep.  Cinco\n4 Extras  - 4waySpin\, Mulligans\, Registration Refund\
 , and Doing the Cinco\n3 rounds of human games including: TW\, Friz and 4W
 P\n2 Levels offered\n1 Surprise\nFriday -  setup anytime friday\n11am-4pm
  Farout (outside)\n11am. Freestyle Judges Seminar with Andrea Rigler -\n2p
 m Freestyle L1/L2  performance\n4pm L1/L2 TnGo\n\n6:30pm awards\nHuman T
 hrowNgo\n\nSaturday\n9am Freestyle L1/L2 Criteria\n12pm  4WayPlay L1 / F
 riz L1\n3:30  Human 4Way Play and Human TW\n4:30pm TimeWarp L1\, SpacedO
 ut\,\n7pm:  CTP and awards\n\n&nbsp\;\n\nSunday\n9 FunKey\n11 7UP\nawards
 \n1pm  L2 TimeWarp\n2pm  L2 4WP\n3:30pm L2 Friz\nawards\n"It'sTricky"  
 game  (beta test)\nwildcard till 6pm\n\n&nbsp\;\n\nDivisions:\n\nChampion
 s / elite/record breakers division\nOpen / everyone else\n\nRegistration :
 \n\n60 runs per game / 30 runs for freestyle\n\nRolling registration means
 \nWednesday pm Est on Oct 10th -  Elite division and volunteers can enter
 \nThen everyone else can enter on Oct 12th 8pm  until we fill.\n\nPlayers
  Packs:\n\nWhen registering you can choose the optional Players Pack - pre
 mium stamped disc\, UpDog shirt\, and some surprises ($20)  Worth more 
 than $40\n\nFreestyle Judges Training:\n\nLearn from one of best and UpDog
  founder Andrea Rigler what to look for during a FS routine (hint:great fo
 r competitors to know also) $10\n\nExtras:\n\n1 oos (out of state)\, 1is (
 in state) team (dog) name will be drawn and refunded their entry fees.\n\n
 The Mulligan : At registration you may purchase only 1 mulligan for $10 (
 per team) which will allow you to restart a bad round.  To use it\, you m
 ust stop your round before time expires and turn in your mulligan ticket a
 nd immediately restart your round.  The original round will no longer cou
 nt and the mulligan round will be your official scored round.  This is go
 od for only 1 round per team.\n\n4WayRoll - Once we complete 4WayPlay\, a 
 random number will be generated between 0-45.  If you scored that number 
 in your round of 4WP\, you get $10!\n\nDo the Cinco - Earn 5 personal best
 s and get a muy bueno prize!\nThe Field:\nWe will be indoors\, on turf\, u
 nder lights.  The field will be taped to indicate the boundary\, bonus an
 d distance lines.   There will be extra matting at either end of the turf
  field to further protect dogs in case of an errant throw or run out.\nYo
 u will be able to potty your dogs just outside the event center.\nYou do n
 ot need a tent. Your dogs must be crated and preferably covered to reduce 
 noise. we will be able to crate in the room across the hall\nMerchandise:
 \nThere will be cool winter gear available including hats and long sleeve 
 shirts.\nRegistration Costs : \nCapping online registration at 60 teams 
 per game.   I expect this event to fill so don't wait to pre-register.\n
 We rent the event center (both halls)  and the field for this event as we
 ll as supply additional awards.\n\neach round - $8\n\n$10 mulligan (only 1
  per team can be purchased now or at the event)\n$20 for Premium Players P
 ack (pick up when you check in )\n$5 for 50/50 CTP (5 throws)\n\nOnly Volu
 nteers and teams in Champions division can register now.  Everyone else\,
  please wait until 8pm on the 12th.\n[dt_button size="big" animation="none
 " icon="" icon_align="left" color="Orange" link="https://updogchallenge.co
 m/product/chillydog-cinco/" target_blank="true"]Register Now[/dt_button]
ATTACH;FMTTYPE=image/jpeg:https://updogchallenge.com/wp-content/uploads/20
 15/07/Updog_chilly_collector.jpg
CATEGORIES:UpDog Events
LOCATION:Purina Farms Event center\, 200 Checkerboard Drive\, Gray Summit\,
  MO\, 63039\, United States
GEO:38.4935448;-90.83624850000001
X-APPLE-STRUCTURED-LOCATION;VALUE=URI;X-ADDRESS=200 Checkerboard Drive\, Gr
 ay Summit\, MO\, 63039\, United States;X-APPLE-RADIUS=100;X-TITLE=Purina F
 arms Event center:geo:38.4935448,-90.83624850000001
END:VEVENT
END:VCALENDAR