BEGIN:VCALENDAR
VERSION:2.0
PRODID:-//wp-events-plugin.com//6.4.7.1//EN
BEGIN:VEVENT
UID:2462@updogchallenge.com
DTSTART:20221210T130000Z
DTEND:20221210T220000Z
DTSTAMP:20221129T194730Z
URL:https://updogchallenge.com/events/chia-cundinamarca-colombia-dec-4th-c
 lubcan/
SUMMARY:Chia\, Cundinamarca\, Colombia - Dec 10th - Clubcan
DESCRIPTION:\n\n\nCLUB NAME\nClubcan\n\n\nCONTACT NAME\nJuan Carlos Sanchez
 \n\n\nCONTACT EMAIL\nclubcan001@gmail.com\n\n\nEVENT ADDRESS\ncalle 12 # 5
 -20\, chia\, cundinamarca 250001\, Colombia\n\n\nEVENT START DATE\n12/10/2
 022\n\n\nEVENT END DATE\n12/10/2022\n\n\nEVENT START TIME\n8:00 AM\n\n\nE
 VENT END TIME\n5:00 PM\n\n\nGAMES BEING PLAYED\nTo Be Determined\n\n\n
CATEGORIES:UpDog Events
LOCATION:Chia\, Cundinamrca\, Colombia\, calle 12 # 5-20\, Chia\, Cundinama
 rca\, Colombia
X-APPLE-STRUCTURED-LOCATION;VALUE=URI;X-ADDRESS=calle 12 # 5-20\, Chia\, Cu
 ndinamarca\, Colombia;X-APPLE-RADIUS=100;X-TITLE=Chia\, Cundinamrca\, Colo
 mbia:geo:0,0
END:VEVENT
END:VCALENDAR