BEGIN:VCALENDAR
VERSION:2.0
PRODID:-//wp-events-plugin.com//6.4.7.1//EN
BEGIN:VEVENT
UID:3376@updogchallenge.com
DTSTART:20240331T140000Z
DTEND:20240331T210000Z
DTSTAMP:20240205T222925Z
URL:https://updogchallenge.com/events/caseyville-il-us-march-31st-unhinged
 -canines/
SUMMARY:Caseyville\, IL\, US - March 31st - Unhinged Canines
DESCRIPTION:\n\n\nCLUB NAME\nUnhinged Canines\n\n\nCONTACT NAME\nAslyn Esti
 ll\n\n\nCONTACT EMAIL\nunhingedcanines@gmail.com\n\n\nEVENT ADDRESS\n8550 
 Bunkum Rd\, Caseyville\, Illinois 62232\, United States\n\n\nEVENT START D
 ATE\n3/31/2024\n\n\nEVENT END DATE\n3/31/2024\n\n\nEVENT START TIME\n9:00
  AM\n\n\nEVENT END TIME\n4:00 AM\n\n\nGAMES BEING PLAYED\nTo Be Determined
 \n\n\nADDITIONAL EVENT INFORMATION FOR PARTICIPANTS\nThis will be a walk u
 p style event\, with multiple game options available to get some practice 
 in before UpDif! Game option will be posted in the near future! Watch fb g
 roup Unhinged Canines for updates!\n\n\n
CATEGORIES:UpDog Events
LOCATION:Caseyville\, IL\, 8550 Bunkum Rd\, Caseyville\, IL\, 62232\, Unite
 d States
X-APPLE-STRUCTURED-LOCATION;VALUE=URI;X-ADDRESS=8550 Bunkum Rd\, Caseyville
 \, IL\, 62232\, United States;X-APPLE-RADIUS=100;X-TITLE=Caseyville\, IL:g
 eo:0,0
END:VEVENT
END:VCALENDAR