BEGIN:VCALENDAR
VERSION:2.0
PRODID:-//wp-events-plugin.com//6.4.7.1//EN
BEGIN:VEVENT
UID:2848@updogchallenge.com
DTSTART:20230730T133000Z
DTEND:20230730T213000Z
DTSTAMP:20230618T151233Z
URL:https://updogchallenge.com/events/caseyville-il-us-july-30th-unhinged-
 canines/
SUMMARY:Caseyville\, IL\, US - July 30th - Unhinged Canines
DESCRIPTION:\n\n\nCLUB NAME\nUnhinged Canines\n\n\nCONTACT NAME\nAslyn Esti
 ll\n\n\nCONTACT EMAIL\nUnhingedcanines@gmail.com\n\n\nEVENT ADDRESS\n8550 
 Bunkum Rd\, Caseyville\, Illinois 62232\, United States\n\n\nEVENT START D
 ATE\n7/30/2023\n\n\nEVENT END DATE\n7/30/2023\n\n\nEVENT START TIME\n8:30
  AM\n\n\nEVENT END TIME\n4:30 PM\n\n\nGAMES BEING PLAYED\nTo Be Determined
 \n\n\nADDITIONAL EVENT INFORMATION FOR PARTICIPANTS\n*points only* no plac
 ements offered.\n\n\n
CATEGORIES:UpDog Events
LOCATION:Caseyville\, IL\, 8550 Bunkum Rd\, Caseyville\, IL\, 62232\, Unite
 d States
X-APPLE-STRUCTURED-LOCATION;VALUE=URI;X-ADDRESS=8550 Bunkum Rd\, Caseyville
 \, IL\, 62232\, United States;X-APPLE-RADIUS=100;X-TITLE=Caseyville\, IL:g
 eo:0,0
END:VEVENT
END:VCALENDAR