BEGIN:VCALENDAR
VERSION:2.0
PRODID:-//wp-events-plugin.com//6.4.7.1//EN
BEGIN:VEVENT
UID:68@updogchallenge.com
DTSTART:20150829T131500Z
DTEND:20150829T193000Z
DTSTAMP:20150829T000244Z
URL:https://updogchallenge.com/events/cartersville-ga-august-29/
SUMMARY:Cartersville GA August 29
DESCRIPTION:@ Dellinger Park\n100 Pine Grove Road\, Cartersville\, Georgia 
 30120\n9am - Registration at 8:15\nFrizgility\, 4 Way Play\, FunKey\nPre-R
 eg is $9 a game or $24 for all 3.\nDay of is $11 a game or $30 for all 3.\
 nPre Registration is now closed\nPre-Reg closes 8/27 at noon.\nPending wea
 ther and for canine safety we may cap the entries at 75 total runs so as t
 o not run dogs in the heat of mid day so register early.\n\n&nbsp\;\n\nDel
 linger Park\n100 Pine Grove Road\, Cartersville\, Georgia 30120\n\nAND\n\n
 GADDC is also hosting the Last Chance USDDN Southern Qualifier Starting at
  6:00 pm Saturday with Super Open Free Style. Registration is at 5:30 pm.\
 nSunday Toss &amp\; Fetch. Qualifying and non-qualifying divisions beginni
 ng at 10:00. Registration is at 9:30. See the GADDC Facebook page for more
  information.\nhttps://www.facebook.com/GADDC?fref=ts
ATTACH;FMTTYPE=image/jpeg:https://updogchallenge.com/wp-content/uploads/20
 15/06/udcsfg.jpg
CATEGORIES:UpDog Events
LOCATION:Dellinger Park\, 100 Pine Grove Road\,  Cartersville\, Georgia \, 
 30120\, United States
GEO:34.1396981;-84.8161619
X-APPLE-STRUCTURED-LOCATION;VALUE=URI;X-ADDRESS=100 Pine Grove Road\,  Cart
 ersville\, Georgia \, 30120\, United States;X-APPLE-RADIUS=100;X-TITLE=Del
 linger Park:geo:34.1396981,-84.8161619
END:VEVENT
END:VCALENDAR