BEGIN:VCALENDAR
VERSION:2.0
PRODID:-//wp-events-plugin.com//6.4.7.1//EN
BEGIN:VEVENT
UID:614@updogchallenge.com
DTSTART;VALUE=DATE:20180923
DTEND;VALUE=DATE:20180924
DTSTAMP:20180805T201956Z
URL:https://updogchallenge.com/events/carmel-in-us-sept-23rd-iddc/
SUMMARY:Carmel\, IN\, US - Sept 23rd - IDDC
DESCRIPTION:\n\n\nContact Name\nRobin Herman\n\n\nClub/ORG Name\nIDDC\n\n\n
 Contact Email address\ninfo@indydoganddisc.com\n\n\nClub State\nIndiana\n
 \n\n\n\n\n\nEvent location full Address\nCool Creek Park\, 2000 E 151st St
 \, Carmel\, IN 46033\n\n\nStart Date\nSeptember 23 2018\n\n\n\n\n\n\n\n\n\
 n\nGames you want to offer\n\nThrow N Go\nTime Warp\n4 Way Play\nSpaced Ou
 t\nFrizgility\nFunKey\n7UP\n\n\n\n\n\n\n\nAny other event information?\nLe
 vels 1 and 2\n\n\n
CATEGORIES:UpDog Events
LOCATION:IDDC Carmel\, 2000 E 151st Street\, Carmel\, IN\, 46033\, United S
 tates
GEO:40.0101606;-86.12528499999996
X-APPLE-STRUCTURED-LOCATION;VALUE=URI;X-ADDRESS=2000 E 151st Street\, Carme
 l\, IN\, 46033\, United States;X-APPLE-RADIUS=100;X-TITLE=IDDC Carmel:geo:
 40.0101606,-86.12528499999996
END:VEVENT
END:VCALENDAR