BEGIN:VCALENDAR
VERSION:2.0
PRODID:-//wp-events-plugin.com//6.4.7.1//EN
BEGIN:VEVENT
UID:559@updogchallenge.com
DTSTART:20180826T190000Z
DTEND:20180826T230000Z
DTSTAMP:20180805T201311Z
URL:https://updogchallenge.com/events/carmel-in-us-aug-26th-iddc/
SUMMARY:Carmel\, IN\, US - Aug 26th - IDDC
DESCRIPTION:\n\n\nContact Name\nRobin Herman\n\n\nClub/ORG Name\nIDDC\n\n\n
 Contact Email address\ninfo@indydoganddisc.com\n\n\nClub State\nIndiana\n
 \n\n\n\n\n\nEvent location full Address\nCool Creek Park\, 2000 E 151st St
 \, Carmel\, IN 46033\n\n\nStart Date\nAugust 26 2018\n\n\nStart Time\n2:00
  PM\n\n\nEnd Time\n6:00 PM\n\n\nGames you want to offer\nTime Warp\, Throw
  N Go\, Four Way Play\n\n\n\n\n\n\nAny other event information?\nLevels 1 
 and 2\n\n\n
CATEGORIES:UpDog Events
LOCATION:IDDC Carmel\, 2000 E 151st Street\, Carmel\, IN\, 46033\, United S
 tates
GEO:40.0101606;-86.12528499999996
X-APPLE-STRUCTURED-LOCATION;VALUE=URI;X-ADDRESS=2000 E 151st Street\, Carme
 l\, IN\, 46033\, United States;X-APPLE-RADIUS=100;X-TITLE=IDDC Carmel:geo:
 40.0101606,-86.12528499999996
END:VEVENT
END:VCALENDAR