BEGIN:VCALENDAR
VERSION:2.0
PRODID:-//wp-events-plugin.com//6.4.7.1//EN
BEGIN:VEVENT
UID:3148@updogchallenge.com
DTSTART:20231118T140000Z
DTEND:20231118T220000Z
DTSTAMP:20231031T152144Z
URL:https://updogchallenge.com/events/carlisle-pa-us-nov-18th-woof-pack-di
 sc-dogs/
SUMMARY:Carlisle\, PA\, US - Nov 18th - Woof Pack Disc Dogs
DESCRIPTION:\n\n\nCLUB NAME\nWoof Pack Disc Dogs\n\n\nCONTACT NAME\nEmily L
 eiby\n\n\nCONTACT EMAIL\nemilyleiby7@gmail.com\n\n\nEVENT ADDRESS\n379 Lon
 gs Gap Rd.\, Carlisle\, PA 17013\, United States\n\n\nEVENT START DATE\n11
 /18/2023\n\n\nEVENT END DATE\n11/18/2023\n\n\nEVENT START TIME\n9:00 AM\n
 \n\nEVENT END TIME\n5:00 PM\n\n\n
CATEGORIES:UpDog Events
LOCATION:JO Lehman Retreat - Carlisle\, PA\, 379 Longs Gap Rd\, Carlisle\, 
 PA\, 17013\, United States
GEO:40.231899;-77.195356
X-APPLE-STRUCTURED-LOCATION;VALUE=URI;X-ADDRESS=379 Longs Gap Rd\, Carlisle
 \, PA\, 17013\, United States;X-APPLE-RADIUS=100;X-TITLE=JO Lehman Retreat
  - Carlisle\, PA:geo:40.231899,-77.195356
END:VEVENT
END:VCALENDAR