BEGIN:VCALENDAR
VERSION:2.0
PRODID:-//wp-events-plugin.com//6.4.7.1//EN
BEGIN:VEVENT
UID:2504@updogchallenge.com
DTSTART:20230709T140000Z
DTEND:20230709T220000Z
DTSTAMP:20230707T172854Z
URL:https://updogchallenge.com/events/carlisle-pa-us-july-9th-woof-pack-di
 sc-dogs/
SUMMARY:Carlisle\, PA\, US - July 9th - Woof Pack Disc Dogs
DESCRIPTION:\n\n\nCLUB NAME\nWoof Pack Disc Dogs\n\n\nCONTACT NAME\nEmily L
 eiby\n\n\nCONTACT EMAIL\nemilyleiby7@gmail.com\n\n\nEVENT ADDRESS\n379 Lon
 gs Gap Rd\, Carlisle\, PA 17013\, United States\n\n\nEVENT START DATE\n7/9
 /2023\n\n\nEVENT END DATE\n7/9/2023\n\n\nEVENT START TIME\n9:00 AM\n\n\nE
 VENT END TIME\n5:00 PM\n\n\nGAMES BEING PLAYED\n\n\n\nJuly 8-9 bite club w
 eeks 1 &amp\; 2\n\n\n 	Independisc Weekend\n 	Pet remembrance day\n 	Satur
 day - Far Out\, Throw N Go\, Four Way Play\, Spaced Out\, Boom!\n 	Sunday 
 - Freestyle Criterion\, 7Up\, Frizgility\, TimeWarp\, Greedy\n\nJuly 22-23
  bite club weeks 3 &amp\; 4\n\n\n 	\n\n 	Discmas in July\n 	Saturday - Fr
 eestyle Criterion\, Throw N Go\, TimeWarp\, Spaced Out\, Greedy\n 	Sunday 
 - Freestyle Performance\, FunKey\, Frizgility\, Four Way Play\, Boom!\n\n\
 n\n\n\n\n\n
CATEGORIES:UpDog Events
LOCATION:JO Lehman Retreat - Carlisle\, PA\, 379 Longs Gap Rd\, Carlisle\, 
 PA\, 17013\, United States
GEO:40.231899;-77.195356
X-APPLE-STRUCTURED-LOCATION;VALUE=URI;X-ADDRESS=379 Longs Gap Rd\, Carlisle
 \, PA\, 17013\, United States;X-APPLE-RADIUS=100;X-TITLE=JO Lehman Retreat
  - Carlisle\, PA:geo:40.231899,-77.195356
END:VEVENT
END:VCALENDAR