BEGIN:VCALENDAR
VERSION:2.0
PRODID:-//wp-events-plugin.com//6.4.7.1//EN
BEGIN:VEVENT
UID:2542@updogchallenge.com
DTSTART:20230630T140000Z
DTEND:20230702T220000Z
DTSTAMP:20230528T193224Z
URL:https://updogchallenge.com/events/cambridge-mn-us-june-30th-thru-july-
 2nd-the-canine-coach/
SUMMARY:Cambridge\, MN\, US - June 30th thru July 2nd - The Canine Coach - 
 Crossover Crown
DESCRIPTION:\n\n\nCLUB NAME\nThe Canine Coach\n\n\nCONTACT NAME\nJess Kittr
 edge\n\n\nCONTACT EMAIL\njumpinglab@gmail.com\n\n\nEVENT ADDRESS\n3101 MN
 -95\, Cambridge\, MN 55008\, United States\n\n\nEVENT START DATE\n6/30/20
 23\n\n\nEVENT END DATE\n7/2/2023\n\n\nEVENT START TIME\n9:00 AM\n\n\nEVE
 NT END TIME\n5:00 PM\n\n\nGAMES BEING PLAYED\nTo Be Determined\n\n\nADDIT
 IONAL EVENT INFORMATION FOR PARTICIPANTS\nGames tbd - event may have F
 reestyle\n\n\n
CATEGORIES:Crossover Crown,UpDog Events
LOCATION:Cambridge\, Minnesota\, 3101 MN-95\, Cambridge\, MN\, 55008\, Unit
 ed States
X-APPLE-STRUCTURED-LOCATION;VALUE=URI;X-ADDRESS=3101 MN-95\, Cambridge\, MN
 \, 55008\, United States;X-APPLE-RADIUS=100;X-TITLE=Cambridge\, Minnesota:
 geo:0,0
END:VEVENT
END:VCALENDAR