BEGIN:VCALENDAR
VERSION:2.0
PRODID:-//wp-events-plugin.com//6.4.7.1//EN
BEGIN:VEVENT
UID:2067@updogchallenge.com
DTSTART;VALUE=DATE:20220702
DTEND;VALUE=DATE:20220704
DTSTAMP:20220316T193805Z
URL:https://updogchallenge.com/events/burnsville-mn-us-july-2nd-3rd-outsid
 e-the-box-dog-training/
SUMMARY:Burnsville\, MN\, US - July 2nd & 3rd - Outside The Box Dog Trainin
 g
DESCRIPTION:\n\n\nCLUB NAME\nOutside The Box Dog Training\n\n\nCONTACT NAME
 \nMelissa and Autumn Fenmar\n\n\nCONTACT EMAIL\noutsidetheboxdogtraining@g
 mail.com\n\n\nEVENT ADDRESS\nMetcalf Middle School\, 2250 Diffley Road\, B
 urnsville\, MN 55337\, United States\n\n\nEVENT START DATE\n7/2/2022\n\n\n
 EVENT END DATE\n7/3/2022\n\n\nGAMES BEING PLAYED\nFar Out\nFour Way Play\n
 Frizgility\nFunKey\nGreedy\n7Up\nSpaced Out\nThrow N Go\nTime Warp\n\n\nAD
 DITIONAL EVENT INFORMATION FOR PARTICIPANTS\nJoin Outside The Box Dog Trai
 ning for Back to the Frisbee: a Back to the Future themed event.\n\nHighli
 ghts include:\nMultiple divisions\nHighlights include:\nBack to the Future
  themed awards\nUnobtanium rosette ribbons for Unobtanium Ups achieved dur
 ing the event\nPersonal Best brag tags\nThrow N Go Bracket game for prizes
 \nEarn a run refund\nWorker's raffle and refunds on entry fees for helping
 \nAnd much more!\n\nInformation will be posted as an event to the Outside 
 The Box Dog Training facebook page.\n\n\n
CATEGORIES:UpDog Events
LOCATION:Metcalf Middle School\, 2250 Diffley Road\, Burnsville\, MN\, 5533
 7\, United States
GEO:44.8036727;-93.22537139999997
X-APPLE-STRUCTURED-LOCATION;VALUE=URI;X-ADDRESS=2250 Diffley Road\, Burnsvi
 lle\, MN\, 55337\, United States;X-APPLE-RADIUS=100;X-TITLE=Metcalf Middle
  School:geo:44.8036727,-93.22537139999997
END:VEVENT
END:VCALENDAR