BEGIN:VCALENDAR
VERSION:2.0
PRODID:-//wp-events-plugin.com//6.4.7.1//EN
BEGIN:VEVENT
UID:1001@updogchallenge.com
DTSTART:20200404T140000Z
DTEND:20200404T220000Z
DTSTAMP:20200318T171638Z
URL:https://updogchallenge.com/events/brooksville-fl-us-april-4th-cfddc/
SUMMARY:Cancelled - Brooksville\, FL\, US - April 4th - CFDDC
DESCRIPTION:This event has been cancelled.\n\n\n\nContact Name\nKat Fahle\n
 \n\nClub/ORG Name\nCFDDC\n\n\nContact Email address\nkat@updogchallenge.co
 m\n\n\nClub State\nFL\n\n\n\n\n\n\nEvent location full Address\nTBD\n\n\n
 Start Date\nApril 4\, 2020\n\n\nEnd Date\nApril 4\, 2020\n\n\n\n\n\n\nGame
 s you want to offer\nTBD\n\n\n\n\n\n\n\n\n\n\n\nDate:\nApril 4th – 9am -
  5pm\n\nLocation:\n\nTBD Florida\n\nGames TBD\n\n$11 per run during pre-re
 gistration.  $15 per run for Day of Show entries if available\n\nRegistra
 tion will open in the fall.
CATEGORIES:UpDog Events
END:VEVENT
END:VCALENDAR