BEGIN:VCALENDAR
VERSION:2.0
PRODID:-//wp-events-plugin.com//6.4.7.1//EN
BEGIN:VEVENT
UID:1661@updogchallenge.com
DTSTART;VALUE=DATE:20211009
DTEND;VALUE=DATE:20211011
DTSTAMP:20210630T215932Z
URL:https://updogchallenge.com/events/brandon-mb-ca-oct-2nd-3rd-crocus-obe
 dience-kennel-club/
SUMMARY:Brandon\, MB\, CA - Oct 9th & 10th - Crocus Obedience & Kennel Club
DESCRIPTION:\n\n\nCLUB NAME\nCrocus Obedience and Kennel Club\n\n\nCONTACT 
 NAME\nSarah Van Renselaar\n\n\nCONTACT EMAIL\nsarahvr@live.com\n\n\nEVENT
  ADDRESS\n66th and Patricia Ave\, Brandon\, Manitoba R7B 2P6\, Canada\n\n
 \nEVENT START DATE\n10/9/2021\n\n\nEVENT END DATE\n10/10/2021\n\n\nEVENT
  START TIME\n8:00 AM\n\n\nGAMES BEING PLAYED\nTo Be Determined\n\n\n
CATEGORIES:UpDog Events
LOCATION:Brandon\, Manitoba\, 66th and Patricia Ave\, Brandon\, MB\, R7B 2P
 6\, Canada
GEO:49.812722;-99.973252
X-APPLE-STRUCTURED-LOCATION;VALUE=URI;X-ADDRESS=66th and Patricia Ave\, Bra
 ndon\, MB\, R7B 2P6\, Canada;X-APPLE-RADIUS=100;X-TITLE=Brandon\, Manitoba
 :geo:49.812722,-99.973252
END:VEVENT
END:VCALENDAR